BEGIN:VCALENDAR
VERSION:2.0
PRODID:-//McHenry County Fair 2026 - ECPv6.15.20//NONSGML v1.0//EN
CALSCALE:GREGORIAN
METHOD:PUBLISH
X-WR-CALNAME:McHenry County Fair 2026
X-ORIGINAL-URL:https://mchenrycountyfair.com
X-WR-CALDESC:Events for McHenry County Fair 2026
REFRESH-INTERVAL;VALUE=DURATION:PT1H
X-Robots-Tag:noindex
X-PUBLISHED-TTL:PT1H
BEGIN:VTIMEZONE
TZID:UTC
BEGIN:STANDARD
TZOFFSETFROM:+0000
TZOFFSETTO:+0000
TZNAME:UTC
DTSTART:20230101T000000
END:STANDARD
END:VTIMEZONE
BEGIN:VEVENT
DTSTART;TZID=UTC:20240802T190000
DTEND;TZID=UTC:20240802T210000
DTSTAMP:20260422T023933
CREATED:20240414T222914Z
LAST-MODIFIED:20240806T173429Z
UID:819-1722625200-1722632400@mchenrycountyfair.com
SUMMARY:Bull Riding
DESCRIPTION:Next Level Pro Bull Riding is back to give you a thrilling showdown between cowboy and bull. Don’t miss this heart-racing event live at Grandstands on Friday night – TICKETS ON SALE NOW!
URL:https://mchenrycountyfair.com/event/bull-riding/
LOCATION:Mchenry County Fairgrounds\, 11900 Country Club Rd\, Woodstock\, IL\, 60098\, United States
CATEGORIES:2024 Fair Schedule,Fairgrounds Events
ATTACH;FMTTYPE=image/jpeg:https://mchenrycountyfair.com/wp-content/uploads/2024/08/Bull-riding-1-scaled.jpg
END:VEVENT
BEGIN:VEVENT
DTSTART;TZID=UTC:20240803T190000
DTEND;TZID=UTC:20240803T230000
DTSTAMP:20260422T023933
CREATED:20240215T145135Z
LAST-MODIFIED:20240721T182139Z
UID:465-1722711600-1722726000@mchenrycountyfair.com
SUMMARY:38 Special with special guest Tommy DeCarlo
DESCRIPTION:
URL:https://mchenrycountyfair.com/event/38-special-with-special-guest-tommy-decarlo/
LOCATION:Grandstands
CATEGORIES:2024 Fair Schedule,Fairgrounds Events
ATTACH;FMTTYPE=image/jpeg:https://mchenrycountyfair.com/wp-content/uploads/2024/02/38-Special-Full-Band-PR-scaled.jpg
END:VEVENT
BEGIN:VEVENT
DTSTART;TZID=UTC:20240804T100000
DTEND;TZID=UTC:20240804T140000
DTSTAMP:20260422T023933
CREATED:20240414T223100Z
LAST-MODIFIED:20240416T222130Z
UID:821-1722765600-1722780000@mchenrycountyfair.com
SUMMARY:Tractor & Truck Pulls
DESCRIPTION:Start your Fair Sunday off right with Tractor & Truck Pulls put on by ILLINI State Pullers. Tractor and truck drivers put their machines to the test in the competition of strength and speed! You and your family will love feeling the rev of the engines shaking the ground as drivers test the limits on their way to victory – TICKETS ON SALE NOW! \nUse code SAVE5 for $5 off tickets. Discount code expires May 1 at midnight.
URL:https://mchenrycountyfair.com/event/tractor-truck-pulls/
LOCATION:Mchenry County Fairgrounds\, 11900 Country Club Rd\, Woodstock\, IL\, 60098\, United States
CATEGORIES:2024 Fair Schedule,Fairgrounds Events
ATTACH;FMTTYPE=image/jpeg:https://mchenrycountyfair.com/wp-content/uploads/2024/04/tractor-pulls.jpeg
END:VEVENT
BEGIN:VEVENT
DTSTART;TZID=UTC:20240804T180000
DTEND;TZID=UTC:20240804T200000
DTSTAMP:20260422T023933
CREATED:20240414T223207Z
LAST-MODIFIED:20240519T144635Z
UID:823-1722794400-1722801600@mchenrycountyfair.com
SUMMARY:Demolition Derby
DESCRIPTION:Buckle up for this thrilling spectacle of destruction brought to you by 4WD Promotions. Our 2024 Demolition Derby will feature heart-stopping collisions will leave you on the edge of your seat – TICKETS ON SALE NOW! \nUse code SAVE5 for $5 off tickets. Discount code expires May 1 at midnight.
URL:https://mchenrycountyfair.com/event/demolition-derby/
LOCATION:Mchenry County Fairgrounds\, 11900 Country Club Rd\, Woodstock\, IL\, 60098\, United States
CATEGORIES:2024 Fair Schedule,Fairgrounds Events
ATTACH;FMTTYPE=image/jpeg:https://mchenrycountyfair.com/wp-content/uploads/2024/04/Demolition-derbi.jpeg
END:VEVENT
BEGIN:VEVENT
DTSTART;TZID=UTC:20240824T120000
DTEND;TZID=UTC:20240824T220000
DTSTAMP:20260422T023933
CREATED:20240414T145746Z
LAST-MODIFIED:20240824T003821Z
UID:813-1724500800-1724536800@mchenrycountyfair.com
SUMMARY:Woodstock Truck'n Food Show
DESCRIPTION:Join us for “truck loads” of fun at the inaugural Woodstock Truck’n Food Show!\nThis all-ages event combines your two favorite trucks – big rigs and food trucks. In addition to the trucks and great food we will have live music\, 21+ beverage selection\, and activities for the whole family to enjoy.\n\nSPECTATORS\nGates open at noon\nAdults $10\nKids 6-13\, seniors 60+ and military and first responders with ID are $5\nKids 5 and under are free\n\nDj Danny Vintage starts around 12:30-2:30\nMontana Suede starts at 3-5\nDj Danny Vintage and Marc Esses from 5:30-7:30\nWildfire starts at 8-10\nAwards will be during intermission of them (around 9).\n\nBIG RIG TRUCK CONTESTTen awards will be given out for the big rig contest.\nWinners will receive a cash prize and trophy. Winners are determined by popular votes.\n\nPRE-REGIRSTRATION: $40Contact Leigha at woodstocktrucknshow@gmail.com for registration\, sponsorship\, vendor contracts or any questions!\n\n*Proceeds from your fun-filled day will go towards updating the McHenry County Fairgrounds Building D bathrooms to be ADA compliant.\n\nDRIVERS\n\n\nRegistration is open FRIDAY 4-9pm or SATURDAY 6-11:30am. All trucks must be parked before noon. Registration will be around gate 3 (more signage will be out). This will be where pre-registrants and people that are showing up to register\, will finalize their payments. I’m hoping to have 2 different lines for those that have pre-registered so that way you can just pay your money\, get your packet and be on your way to your spot. Unfortunately\, after the first section of the entrance\, the rest is gravel until you get back up towards the livestock barns. This is a wash and show event\, so nothing has to be perfect\, however you have been warned. Once you’ve gone through registration\, you’ll follow the signs to get you to where there will be volunteers guiding you on where to park. Please listen to them as there is a certain way we’d like to try parking trucks for this first year. If there is an issue\, please let me know. If you’d like to be parked by/with someone\, please try to arrive with them so you can be parked at the same time. There will be a couple food vendors there in the morning\, however the rest of them will not be there and ready until closer to noon.\n\n\nRegistration: In your registration packet is going to be an intro letter\, a survey\, your wristbands and voting cards.\n\nAwards: As a reminder\, this is a People’s Choice event\, you (as people) are allowed to vote for your favorite! Everything is color coded so all you have to do is find your favorite overall and best display of lights for each color (except for Yellow\, there is only a best of class award for the antiques!!!) You write the number of your favorite on the line and that’s it!! Awards will be done around 9pm\, during the intermission of the final band\, Wild Fire. There will be an announcement made around 8:30pm for the final call to get your votes in.\n\nTickets: Driver plus 1 get in with their registration. All other family members or crew must purchase admission tickets! Admission tickets will be cash only on site. You can buy them online with a credit/debit card. All alcohol sales are cash OR card and will be handled at the beer tent only. I am unsure what the food vendors will use\, if they will do cash or card\, please be prepared for either\, we are in the process of getting an ATM for onsite.\n\nAs this is a family event\, I am encouraging you and your family to set up “camp” for the day. Please feel free to bring a 10×10 easy up (no larger please) and your chairs to set up by your truck(s) and enjoy the day with your family and friends. Large outside coolers are PROHIBITED. Please do not bring them on to the event area. If you are camping\, please keep all of your large coolers up in the camping area.\n\nCamping: Camping is available for $35/night for Friday and/or Saturday night(s) for water and electric hookup. LIMITED SPOTS ARE AVAILABLE! $15/night for no services. We are not a regular campground therefore we do NOT have dumping services available onsite. There is absolutely NO DUMPING of your grey or black water tanks on site. There is a $250 fine if you do so.\n\nGolf Carts: Golf carts are allowed for the volunteers and anyone who is camping and has registered their vehicle with me. There is not a fee for bringing your golf cart\, but please know that you must have valid insurance on the vehicle\, only people older than the age of 16 are allowed to drive\, and you MUST follow the golf cart route in order to prevent any accidents happening with the spectators. Please message me if you have any questions on camping or golf carts.
URL:https://mchenrycountyfair.com/event/woodstock-truckn-food-show/
LOCATION:Mchenry County Fairgrounds\, 11900 Country Club Rd\, Woodstock\, IL\, 60098\, United States
CATEGORIES:Fairgrounds Events
ATTACH;FMTTYPE=image/jpeg:https://mchenrycountyfair.com/wp-content/uploads/2024/08/441395904_2146652252350124_2243192054585904946_n.jpg
END:VEVENT
BEGIN:VEVENT
DTSTART;TZID=UTC:20240831T120000
DTEND;TZID=UTC:20240831T190000
DTSTAMP:20260422T023933
CREATED:20240827T234519Z
LAST-MODIFIED:20240827T234519Z
UID:1993-1725105600-1725130800@mchenrycountyfair.com
SUMMARY:Midwest United Car Show
DESCRIPTION:Car enthusiasts mark your calendar for the biggest car show in the Midwest! Cars and Culture presents to you “Midwest United\, 2024 Chicago!”The show will be on August 31\, 2024 at the McHenry County Fair Association Fairgrounds in Woodstock\, IL. Compete with the best in the Midwest for a chance to win our $1\,500 best of show cash prize award! That’s right\, $1\,500! This will be a collaborated show featuring 500 of the best show cars in all of the 12 Midwest States (Illinois\, Indiana\, Iowa\, Kansas\, Michigan\, Minnesota\, Missouri\, Nebraska\, North Dakota\, Ohio\, South Dakota\, and Wisconsin). Join us for a day to build COMMUNITY within the car community. CONNECT and network with other like minded people. Display your CREATIVITY through your vehicle in front of our thousands of guest. You’ll experience excitement\, great food\, music\, giveaways\, activities\, raffles prizes and so much more. Midwest\, let’s make this happen and let’s see which Midwest will bring home the $1\,500 cash prize award! This event cannot happen without you! Please invite and share this event to your friends\, families\, local shops and other car enthusiasts! For more tickets and information\, please visit Carsandculture.org \n\n\n\n\nAwards list: \n-Best Show Car of the Season \n-Best JDM of the Season \n-Best KDM of the Season \n-Best Supercar of the season \n-Best Truck of the Season \n-Best Engine Visual of the Season \n-Best Interior of the Season \n-Best Air Set Up of the Season \n-Best Stance of the Season \n-Best Fitment of the Season \n-Cars and Culture’s Pick of the Season \n-Best Car team overall of the Season \n-Best Car team participation \n-Best Domestic of the season \n-Best Old Skool of the season \n-Best Euro of the season \n-Top 20 of the Season \n-Winner of the Car Limbo Competition \n-Winner of the Two-Step Competition
URL:https://mchenrycountyfair.com/event/midwest-united-car-show/
LOCATION:Mchenry County Fairgrounds\, 11900 Country Club Rd\, Woodstock\, IL\, 60098\, United States
CATEGORIES:Fairgrounds Events
ATTACH;FMTTYPE=image/jpeg:https://mchenrycountyfair.com/wp-content/uploads/2024/08/https___cdn.evbuc_.com_images_833403959_1998759104343_1_original.jpeg
END:VEVENT
BEGIN:VEVENT
DTSTART;TZID=UTC:20240922T080000
DTEND;TZID=UTC:20240922T140000
DTSTAMP:20260422T023933
CREATED:20240215T143355Z
LAST-MODIFIED:20240722T193303Z
UID:454-1726992000-1727013600@mchenrycountyfair.com
SUMMARY:Walneck's Motorcycle Swap Meet
DESCRIPTION:
URL:https://mchenrycountyfair.com/event/walnecks-motorcycle-swap-meet-2/
LOCATION:Mchenry County Fairgrounds\, 11900 Country Club Rd\, Woodstock\, IL\, 60098\, United States
CATEGORIES:Fairgrounds Events
ATTACH;FMTTYPE=image/jpeg:https://mchenrycountyfair.com/wp-content/uploads/2024/02/IMG_4357-scaled.jpg
END:VEVENT
BEGIN:VEVENT
DTSTART;TZID=UTC:20241013T080000
DTEND;TZID=UTC:20241013T140000
DTSTAMP:20260422T023933
CREATED:20240215T143442Z
LAST-MODIFIED:20240216T043649Z
UID:456-1728806400-1728828000@mchenrycountyfair.com
SUMMARY:Walneck's Motorcycle Swap Meet
DESCRIPTION:
URL:https://mchenrycountyfair.com/event/walnecks-motorcycle-swap-meet-3/
LOCATION:Mchenry County Fairgrounds\, 11900 Country Club Rd\, Woodstock\, IL\, 60098\, United States
CATEGORIES:Fairgrounds Events
ATTACH;FMTTYPE=image/jpeg:https://mchenrycountyfair.com/wp-content/uploads/2024/02/IMG_4357-scaled.jpg
END:VEVENT
BEGIN:VEVENT
DTSTART;TZID=UTC:20250801T190000
DTEND;TZID=UTC:20250801T210000
DTSTAMP:20260422T023933
CREATED:20250516T052635Z
LAST-MODIFIED:20250520T031649Z
UID:2320-1754074800-1754082000@mchenrycountyfair.com
SUMMARY:Bull Riding
DESCRIPTION:Next Level Pro Bull Riding is back to give you a thrilling showdown between cowboy and bull. Don’t miss this heart-racing event live at Grandstands on Friday night – TICKETS ON SALE NOW!
URL:https://mchenrycountyfair.com/event/bull-riding-2025/
LOCATION:Mchenry County Fairgrounds\, 11900 Country Club Rd\, Woodstock\, IL\, 60098\, United States
CATEGORIES:2025 Fair Schedule,Fairgrounds Events
ATTACH;FMTTYPE=image/jpeg:https://mchenrycountyfair.com/wp-content/uploads/2024/08/Bull-riding-1-scaled.jpg
END:VEVENT
BEGIN:VEVENT
DTSTART;TZID=UTC:20250803T100000
DTEND;TZID=UTC:20250803T140000
DTSTAMP:20260422T023933
CREATED:20250516T052459Z
LAST-MODIFIED:20250520T031612Z
UID:2318-1754215200-1754229600@mchenrycountyfair.com
SUMMARY:Tractor & Truck Pulls
DESCRIPTION:Start your Fair Sunday off right with Tractor & Truck Pulls put on by ILLINI State Pullers. Tractor and truck drivers put their machines to the test in the competition of strength and speed! You and your family will love feeling the rev of the engines shaking the ground as drivers test the limits on their way to victory – TICKETS ON SALE NOW! \n 
URL:https://mchenrycountyfair.com/event/tractor-truck-pulls-2/
LOCATION:Mchenry County Fairgrounds\, 11900 Country Club Rd\, Woodstock\, IL\, 60098\, United States
CATEGORIES:2025 Fair Schedule,Fairgrounds Events
ATTACH;FMTTYPE=image/jpeg:https://mchenrycountyfair.com/wp-content/uploads/2024/04/tractor-pulls.jpeg
END:VEVENT
BEGIN:VEVENT
DTSTART;TZID=UTC:20250803T180000
DTEND;TZID=UTC:20250803T200000
DTSTAMP:20260422T023933
CREATED:20250520T031846Z
LAST-MODIFIED:20250714T033735Z
UID:2328-1754244000-1754251200@mchenrycountyfair.com
SUMMARY:Demolition Derby by 4WD Promotions​
DESCRIPTION:Buckle up for this thrilling spectacle of destruction brought to you by 4WD Promotions. Our 2024 Demolition Derby will feature heart-stopping collisions will leave you on the edge of your seat – TICKETS ON SALE NOW! \nFacebook Event
URL:https://mchenrycountyfair.com/event/demolition-derby-2025/
LOCATION:Mchenry County Fairgrounds\, 11900 Country Club Rd\, Woodstock\, IL\, 60098\, United States
CATEGORIES:2025 Fair Schedule,Fairgrounds Events
ATTACH;FMTTYPE=image/jpeg:https://mchenrycountyfair.com/wp-content/uploads/2024/04/Demolition-derbi.jpeg
END:VEVENT
BEGIN:VEVENT
DTSTART;TZID=UTC:20250823T150000
DTEND;TZID=UTC:20250823T220000
DTSTAMP:20260422T023933
CREATED:20241110T180727Z
LAST-MODIFIED:20250520T031931Z
UID:2058-1755961200-1755986400@mchenrycountyfair.com
SUMMARY:2nd Annual Woodstock Truck’n Food Show
DESCRIPTION:
URL:https://mchenrycountyfair.com/event/2nd-annual-woodstock-truckn-food-show/
LOCATION:Mchenry County Fairgrounds\, 11900 Country Club Rd\, Woodstock\, IL\, 60098\, United States
CATEGORIES:Fairgrounds Events
ATTACH;FMTTYPE=image/jpeg:https://mchenrycountyfair.com/wp-content/uploads/2024/11/12461175313_122115846650496978_3963990565567445787_n-1.jpg
END:VEVENT
BEGIN:VEVENT
DTSTART;TZID=UTC:20260926T150000
DTEND;TZID=UTC:20260927T000000
DTSTAMP:20260422T023933
CREATED:20260226T194634Z
LAST-MODIFIED:20260226T194654Z
UID:2979-1790434800-1790467200@mchenrycountyfair.com
SUMMARY:Late Night Flea Market Fest
DESCRIPTION:“No need for Sun-Tan lotion at this market\,” state Bob Zurko of Zurko’s Midwest Promotions\, promoter of the special event. It’s a night of “Flea & Fun”!\nIt’s treasure-hunting at its finest\, as dealers gather their “FLEAS & STUFF including Antiques\, Crafts\, County Furniture\, Old Comics\, Toys\, MEMORABILIA of all sorts and lots of Collectibles. The “Late Night Flea Market Fest” affords a great opportunity for folks who generally cannot attend a Flea Market during the day. Great food & snacks will be available. Dealers will be indoors\, in tents and open-air\, as the market goes rain or “MOON SHINE”! As always\, the fun is in the hunt. Bring ‘FLASHLIGHTS”!\nSpecial guests: Doctor Ivan Cryptosis – Doctor Ivan Cryptosis. Center Square of Pop Culture and America’s Pitchman. Horror Host\, Comic\, Ventriloquist\, or Quizmaster. He is a man of many roles. He is joined by his sidekick Professor Varnus Lupescu. Entertainment and fun is everywhere…\nAlso\, Jeff Balke – Jeff Balke is an entrepreneur\, writer\, voice actor and upcoming producer/director of his own animations. He founded his own animation studio\, Jeff Balke Studios\, which focuses on 2D Animation (both traditional and digital Animation). He’s created a number of characters\, but is best known for Stanley and Friends (Stanley Squirrel\, Natasha Squirrel\, Chester\, Baby Fang\, Billy Billington and Bandit). In addition to creating animation\, his studio also produced their first all ages comic called Stanley’s Ghost\, which was Eisner nominated\, starting their own line of weekly comic strips and kids books. Just recently\, they started work on their first stop motion animation featuring Stanley Squirrel.\nFor additional information on this and other Zurko Promotions\, call or write: 115 E. Division St. Shawano\, WI. 54166 (715-526-9769) www.zurkopromotions.com
URL:https://mchenrycountyfair.com/event/late-night-flea-market-fest/
LOCATION:Mchenry County Fairgrounds\, 11900 Country Club Rd\, Woodstock\, IL\, 60098\, United States
CATEGORIES:Fairgrounds Events
ATTACH;FMTTYPE=image/jpeg:https://mchenrycountyfair.com/wp-content/uploads/2026/02/622911096_1479694504159545_484374281618535947_n.jpg
ORGANIZER;CN="Zurko Promotions":MAILTO:office@zurkopromotions.com
END:VEVENT
BEGIN:VEVENT
DTSTART;TZID=UTC:20261010T090000
DTEND;TZID=UTC:20261010T170000
DTSTAMP:20260422T023933
CREATED:20260226T205501Z
LAST-MODIFIED:20260226T205800Z
UID:2985-1791622800-1791651600@mchenrycountyfair.com
SUMMARY:41st Annual FALL DIDDLEY® Day 1
DESCRIPTION:Join us Saturday\, October 10th (9:00am – 5:00pm) and Sunday\, October 11th (9:00am – 4:00pm) at the McHenry County Fairgrounds for the 41st Annual Fall Diddley Craft Show. This juried show is sure to entertain and offer everyone a head start on your holiday shopping season! \n100% of net proceeds from Fall Diddley® are donated to 13 McHenry County agencies that service those with mental health related issues. Without your attendance and participation\, this wouldn’t be possible! \nIf you are interested in donating to the Mental Health Resource League\, please visit our Contact Us page – or make a safe and secue donation via our Paypal donation page
URL:https://mchenrycountyfair.com/event/41st-annual-fall-diddley/
LOCATION:Mchenry County Fairgrounds\, 11900 Country Club Rd\, Woodstock\, IL\, 60098\, United States
CATEGORIES:Fairgrounds Events
ATTACH;FMTTYPE=image/jpeg:https://mchenrycountyfair.com/wp-content/uploads/2026/02/486825342_10160613819687294_3770741965202865176_n.jpg
ORGANIZER;CN="Mental Health Resource League":MAILTO:falldiddley@mhrl.org
END:VEVENT
BEGIN:VEVENT
DTSTART;TZID=UTC:20261011T090000
DTEND;TZID=UTC:20261011T160000
DTSTAMP:20260422T023933
CREATED:20260226T205737Z
LAST-MODIFIED:20260226T205737Z
UID:2989-1791709200-1791734400@mchenrycountyfair.com
SUMMARY:41st Annual Fair Diddley Day 2
DESCRIPTION:Join us Saturday\, October 10th (9:00am – 5:00pm) and Sunday\, October 11th (9:00am – 4:00pm) at the McHenry County Fairgrounds for the 41st Annual Fall Diddley Craft Show. This juried show is sure to entertain and offer everyone a head start on your holiday shopping season! \n100% of net proceeds from Fall Diddley® are donated to 13 McHenry County agencies that service those with mental health related issues. Without your attendance and participation\, this wouldn’t be possible! \nIf you are interested in donating to the Mental Health Resource League\, please visit our Contact Us page – or make a safe and secue donation via our Paypal donation page
URL:https://mchenrycountyfair.com/event/41st-annual-fair-diddley-day-2/
LOCATION:Mchenry County Fairgrounds\, 11900 Country Club Rd\, Woodstock\, IL\, 60098\, United States
CATEGORIES:Fairgrounds Events
ATTACH;FMTTYPE=image/jpeg:https://mchenrycountyfair.com/wp-content/uploads/2026/02/486825342_10160613819687294_3770741965202865176_n.jpg
ORGANIZER;CN="Mental Health Resource League":MAILTO:falldiddley@mhrl.org
END:VEVENT
END:VCALENDAR